BEGIN:VCALENDAR
VERSION:2.0
PRODID:Imitheme.com 
BEGIN:VEVENT
UID:20260425T0450551092674717
DTSTAMP;TZID=UTC:2026-04-25 04:50:55
DTSTART;TZID=America/Los_Angeles:20260425T045055
DTEND;TZID=America/Los_Angeles:20260425T045055
SUMMARY:Open avond Fontys februari
LOCATION:
DESCRIPTION: Open avond Fontys deeltijd- en masteropleidingen⁣ Overweeg jij een carrièreswitch te maken naar het onderwijs en ben je benieuwd naar jouw mogelijkheden? Wil je eens rondlopen in ons gebouw en gevoel krijgen bij onze lerarenopleidingen? Kom dan vrijblijvend naar de brede voorlichting tijdens de open avond van Fontys Educatie op 12 februari. En laat je informeren onder het genot van een kopje koffie of thee. Onze studiekeuzeadviseur, Judith Boetzkes, vertelt je graag in een presentatie van ca. 45 minuten alles over de verschillende opleidingsmogelijkheden, (verkorte) opleidingsroutes en geeft tips voor het combineren van werk en studie. Ook zullen er enkele studenten zijn om hun ervaringen te delen en vragen te beantwoorden.   Programma We hebben deze avond 2 voorlichtingsrondes: - Ronde 1: 18.15-19.00 uur - Ronde 2: 19.00-19.45 uur   Krijg antwoord op de volgende vragen - Welke stappen kan ik nemen om te ontdekken of het leraarschap bij me past? - Welke lerarenopleidingen zijn er? - Hoe snel kan ik leraar worden? - Hoe groot is de studielast? - Wat is flexibel studeren? - Wanneer zijn de collegedagen? - Hoeveel stage moet ik lopen? - Waar kan ik na mijn studie gaan werken? 
URL:https://onderwijsloketmiddenbrabant.nl/eventer/open-avond-fontys-februari/
END:VEVENT
END:VCALENDAR
