BEGIN:VCALENDAR
VERSION:2.0
PRODID:Imitheme.com 
BEGIN:VEVENT
UID:20260420T0001431237798944
DTSTAMP;TZID=UTC:2026-04-20 00:01:43
DTSTART;TZID=America/Los_Angeles:20260420T000143
DTEND;TZID=America/Los_Angeles:20260420T000143
SUMMARY:Koffiemomenten 2025
LOCATION:
DESCRIPTION: Koffiemoment 2025: Is het al weer lang geleden dat je een school van binnen hebt gezien? Wil je eens binnenlopen om de sfeer te proeven en vragen te stellen over een baan in het onderwijs? Kom dan op één van onderstaande dagen op de koffie. Het koffiemoment is er voor iedereen die geïnteresseerd is om een switch te maken naar het voortgezet onderwijs of middelbaar beroepsonderwijs. Op een informele manier krijg je meer informatie van de studieadviseur en kun je in gesprek met mensen uit het onderwijs. Uiteraard is er voldoende ruimte voor het stellen van vragen. Zien we je daar?   Voor wie? Onderwijspotentials Waar en wanneer?  - 9 december 10:00u tot 11:30u - Locatie: Yonder, Stappegoorweg 183, 5022 DD Tilburg (gebouw A)   Schrijf je hieronder in. Aanmelden 
URL:https://onderwijsloketmiddenbrabant.nl/eventer/koffiemomenten-2025/
END:VEVENT
END:VCALENDAR
