BEGIN:VCALENDAR
VERSION:2.0
PRODID:Imitheme.com 
BEGIN:VEVENT
UID:20260419T182004517641081
DTSTAMP;TZID=UTC:2026-04-19 18:20:04
DTSTART;TZID=America/Los_Angeles:20260419T182004
DTEND;TZID=America/Los_Angeles:20260419T182004
SUMMARY:Open avond voor deeltijd- en masteropleidingen
LOCATION:
DESCRIPTION: Open avond | 5 juni 2024 Tussen 18.00 en 20.30 uur Programma: deeltijd- en masteropleidingen   Op zoek naar de juiste opleiding? Tijdens de open avond helpen wij je ontdekken welke opleiding bij jou past. - We vertellen je alles wat je wilt weten over een opleiding. - Ontmoet docenten en studenten. - Stel al je vragen. Ook geeft de studieadviseur een brede voorlichting.
URL:https://onderwijsloketmiddenbrabant.nl/eventer/open-avond-voor-deeltijd-en-masteropleidingen/
END:VEVENT
END:VCALENDAR
