BEGIN:VCALENDAR
VERSION:2.0
PRODID:Imitheme.com 
BEGIN:VEVENT
UID:20260419T193309126526689
DTSTAMP;TZID=UTC:2026-04-19 19:33:09
DTSTART;TZID=America/Los_Angeles:20260419T193309
DTEND;TZID=America/Los_Angeles:20260419T193309
SUMMARY:Werkenbij event de Overlaat
LOCATION:
DESCRIPTION:Ontdek of werken op de Overlaat bij jou past! Meld je aan voor hun infoavond op woensdag 15 mei.   De Overlaat zoekt docenten. Let\'s meet!   Kom langs bij de Overlaat op woensdag 15 mei van 19:00u tot 20:30u om kennis te maken. Zij laten je graag zien wat werken bij hun op school zo leuk en uniek maakt. Ze zijn op zoek naar enthousiaste nieuwe collega\'s voor o.a. de volgende vakgebieden: Nederlands, Engels, wiskunde, Nask en biologie, maar docenten voor andere vakken zijn ook van harte welkom. Het zou mooi zijn als je beschikt over een tweedegraads bevoegdheid. Mocht je deze niet in je bezit hebben, maar ben je wel bereid om deze te behalen, ook dan komen ze graag met je in gesprek.
URL:https://onderwijsloketmiddenbrabant.nl/eventer/werkenbij-event-de-overlaat/
END:VEVENT
END:VCALENDAR
