BEGIN:VCALENDAR
VERSION:2.0
PRODID:Imitheme.com 
BEGIN:VEVENT
UID:20260419T1809082044920679
DTSTAMP;TZID=UTC:2026-04-19 18:09:08
DTSTART;TZID=America/Los_Angeles:20260419T180908
DTEND;TZID=America/Los_Angeles:20260419T180908
SUMMARY:Open avond voor talenten die willen werken in het specialistisch onderwijs
LOCATION:
DESCRIPTION:Biezonderwijs zoekt bruisende talenten en organiseert daarom een open avond om kennis te maken.   Wie: voor iedereen die interesse heeft in werken in het specialistisch onderwijs Wanneer: op dinsdag 14 mei 2024 van 17.00 tot 19.00 uur Waar: op alle scholen van Biezonderwijs Ben jij leerkracht, intern begeleider, leerkrachtondersteuner of iemand die zijn bevoegdheid wil halen? Zet jouw talent in voor werk dat ertoe doet en help leerlingen die met leren en opgroeien extra ondersteuning kunnen gebruiken. Bezoek dinsdag 14 mei de scholen en ontdek of werken bij Biezonderwijs bij je past.
URL:https://onderwijsloketmiddenbrabant.nl/eventer/open-avond-voor-talenten-die-willen-werken-in-het-specialistisch-onderwijs/
END:VEVENT
END:VCALENDAR
