BEGIN:VCALENDAR
VERSION:2.0
PRODID:Imitheme.com 
BEGIN:VEVENT
UID:20260419T151300606028046
DTSTAMP;TZID=UTC:2026-04-19 15:13:00
DTSTART;TZID=America/Los_Angeles:20260419T151300
DTEND;TZID=America/Los_Angeles:20260419T151300
SUMMARY:Werkenbij-event De Rooi Pannen
LOCATION:
DESCRIPTION:Ben jij een startend of ervaren onderwijsprofessional? Of doe je nu iets totaal anders en overweeg je een overstap naar het onderwijs? Kom dan naar een van onze Werkenbij-events en ontdek vrijblijvend hoe leuk werken bij De Rooi Pannen is.  In het voorjaar verwachten we een behoorlijk aantal nieuwe collega’s te gaan aannemen. Staat jouw ideale vacature nog niet tussen de vacatures op de website, kom dan vooral langs bij het Werkenbij-event van De Rooi Pannen. Maak kennis met de organisatie en laat je gegevens achter!   Over De Rooi Pannen Bij De Rooi Pannen geloven we dat onderwijs meer is dan alleen kennisoverdracht; het is dé kans om een echt verschil te maken in de ontwikkeling van de nieuwe generatie. Een bijdrage kunnen leveren aan de groei van talent geeft veel voldoening. Andere voordelen van werken bij De Rooi Pannen: - Korte communicatielijnen, weinig hiërarchie. - Een duidelijke, gezamenlijke doelstelling: onze leerlingen en studenten het beste onderwijs bieden. - Veel vakantiedagen: je bent alle schoolvakanties vrij. Zo is werk en zorg voor jouw schoolgaande kinderen perfect te combineren.   De voordelen Je vraagt je misschien af wat het bijwonen van een Werkenbij-event jou kan opleveren. Graag zetten we die voordelen even voor je op een rij: - Je krijgt meer info over onze vacatures. - Je maakt kennis met onze collega’s. - Je ontdekt onze instroommogelijkheden. - Je ontdekt hoe je de overstap naar het onderwijs maakt. - Je krijgt een rondleiding door onze scholen. - Je stelt ons al jouw vragen onder het genot van een hapje en een drankje. 
URL:https://onderwijsloketmiddenbrabant.nl/eventer/werkenbij-event-de-rooi-pannen/
END:VEVENT
END:VCALENDAR
