BEGIN:VCALENDAR
VERSION:2.0
PRODID:Imitheme.com 
BEGIN:VEVENT
UID:20260419T164039899249453
DTSTAMP;TZID=UTC:2026-04-19 16:40:39
DTSTART;TZID=America/Los_Angeles:20260419T164039
DTEND;TZID=America/Los_Angeles:20260419T164039
SUMMARY:Proefstudeerdag Lerarenopleiding
LOCATION:
DESCRIPTION: Hoe ziet een dag van een student aan de lerarenopleiding eruit? Hoe kom je erachter of een opleiding bij je past? Dat is een vraag die veel studenten bezighoudt. Ook voor toekomstige studenten van de lerarenopleidingen aan de Radboud Docenten Academie is dat een belangrijke vraag. Om een zo compleet mogelijk beeld te geven van de lerarenopleiding kan je bij ons proefstuderen op maandag 8 april 2024. Je kunt dan zelf ervaren wat de Educatieve Master of Educatieve Minor/Module je te bieden hebben. Wat ga je doen? 8.45 uur | inloop met koffie/thee op de 20ste verdieping van het Erasmusgebouw 9.05 uur | naar de collegezaal 9.15-10.15 uur | Pedagogisch Handelen - speciaal college proefstudeerders 10.30-12.15 uur | Vakdidactiek B (per schoolvak) - regulier college 12.20-13.00 uur | lunch met opleidingscoördinatoren en studieadviseurs 13.00- circa 14.30 uur | vakinhoudelijke oriëntatie tweejarige educatieve masters (facultair) Aanmelden Je kunt je tot en met donderdag 4 april aanmelden voor de proefstudeerdag via het inschrijfformulier op de website van de Radboud Universiteit (knop hieronder). 
URL:https://onderwijsloketmiddenbrabant.nl/eventer/proefstudeerdag-lerarenopleiding/
END:VEVENT
END:VCALENDAR
